BEGIN:VCALENDAR
VERSION:2.0
PRODID:-//Kirmes Deutschland - ECPv6.15.11//NONSGML v1.0//EN
CALSCALE:GREGORIAN
METHOD:PUBLISH
X-ORIGINAL-URL:https://www.kirmesdeutschland.de
X-WR-CALDESC:Veranstaltungen für Kirmes Deutschland
REFRESH-INTERVAL;VALUE=DURATION:PT1H
X-Robots-Tag:noindex
X-PUBLISHED-TTL:PT1H
BEGIN:VTIMEZONE
TZID:Europe/Paris
BEGIN:DAYLIGHT
TZOFFSETFROM:+0100
TZOFFSETTO:+0200
TZNAME:CEST
DTSTART:20250330T010000
END:DAYLIGHT
BEGIN:STANDARD
TZOFFSETFROM:+0200
TZOFFSETTO:+0100
TZNAME:CET
DTSTART:20251026T010000
END:STANDARD
BEGIN:DAYLIGHT
TZOFFSETFROM:+0100
TZOFFSETTO:+0200
TZNAME:CEST
DTSTART:20260329T010000
END:DAYLIGHT
BEGIN:STANDARD
TZOFFSETFROM:+0200
TZOFFSETTO:+0100
TZNAME:CET
DTSTART:20261025T010000
END:STANDARD
BEGIN:DAYLIGHT
TZOFFSETFROM:+0100
TZOFFSETTO:+0200
TZNAME:CEST
DTSTART:20270328T010000
END:DAYLIGHT
BEGIN:STANDARD
TZOFFSETFROM:+0200
TZOFFSETTO:+0100
TZNAME:CET
DTSTART:20271031T010000
END:STANDARD
END:VTIMEZONE
BEGIN:VEVENT
DTSTART;TZID=Europe/Paris:20260828T000000
DTEND;TZID=Europe/Paris:20260831T235959
DTSTAMP:20260425T215012
CREATED:20250901T101855Z
LAST-MODIFIED:20250922T063002Z
UID:1694-1787875200-1788220799@www.kirmesdeutschland.de
SUMMARY:Rheder Kirmes 2026
DESCRIPTION:Die Rheder Kirmes 2026 ist jährlich ein Highlight im Veranstaltungskalender der Region. Das beliebte Volksfest findet traditionell im Herzen von Rhede statt und zieht jedes Jahr zahlreiche Besucher an. An den vier Kirmestagen erwartet die Gäste ein buntes Programm mit aufregenden Fahrgeschäften\, abwechslungsreichen Ständen und köstlichen Speisen. \n\n\n\nAllgemeine InformationenFahrgeschäfte\n\nDatum: 28.08.2025 – 31.08.2025 Ort: Innenstadt Rhede \n\n\n\n\n\n\n\nÖffnungszeiten: Freitag\, 28.08.2026: 14:00 Uhr – 02:00 Uhr Samstag\, 29.08.2026: 14:00 Uhr – 02:00 Uhr Sonntag\, 30.08.2026: 11:00 Uhr – 02:00 Uhr Montag\, 31.08.2026: 14:00 Uhr – 02:00 Uhr \n\n\n\n\n\n\n\nWeitere Informationen & Events: Eröffnung mit Fassanstich: Freitag\, 28.08.2026: 16:00 Uhr Familientag: Montag\, 31.08.2026: 14:00 Uhr – 19:00 Uhr Abschluss-Feuerwerk: Montag\, 31.08.2026: ca. 21:00 Uhr \n\n\n\n\n\n    \n        \n\n            \n\n            \n                \n                    Jump Street – Klaasen\n                    \n                \n            \n            \n                Jump Street – Klaasen\n            \n        \n                \n                    Musik Express – Krause\n                    \n                \n            \n            \n                Musik Express – Krause\n            \n        \n                \n                    Octopussy – Markmann\n                    \n                \n            \n            \n                Octopussy – Markmann\n            \n                \n    \n\n\n\n\n\n\n\n\n\n\nAnfahrt und Parken\n\n\n\nKlicke auf die Icons für weitere Informationen
URL:https://www.kirmesdeutschland.de/kirmesplatz/rheder-kirmes-2026/
CATEGORIES:Kirmesplätze 2026 NRW,Alle Kirmesplätze 2026
ATTACH;FMTTYPE=image/png:https://www.kirmesdeutschland.de/wp-content/uploads/2025/09/Rheder-Kirmes-2026.png
END:VEVENT
BEGIN:VEVENT
DTSTART;TZID=Europe/Paris:20261016T000000
DTEND;TZID=Europe/Paris:20261019T235959
DTSTAMP:20260425T215012
CREATED:20250901T160845Z
LAST-MODIFIED:20250905T104206Z
UID:1810-1792108800-1792454399@www.kirmesdeutschland.de
SUMMARY:Bocholter Kirmes 2026
DESCRIPTION:Die Bocholter Kirmes 2025 findet bereits zum 571. Mal in der Bocholter Innenstadt statt. An den Kirmestagen verwandelt sich die Innenstadt von Bocholt in ein buntes Treiben voller Attraktionen und Unterhaltung. Die Besucher können sich auf eine Vielzahl von Fahrgeschäften\, Spielständen und kulinarischen Köstlichkeiten freuen. \n\n\n\nAllgemeine InformationenFahrgeschäfte\n\nDatum: 16.10.2026 –  19.10.2026Ort: Innenstadt Bocholt \n\n\n\n\n\n\n\nÖffnungszeiten: Freitag\, 16.10.2026: 14:00 Uhr – 02:00 UhrSamstag\, 17.10.2026: 11:00 Uhr – 02:00 UhrSonntag\, 18.10.2026: 11:00 Uhr – 01:00 UhrMontag\, 19.10.2026: 11:00 Uhr – 23:00 Uhr \n\n\n\n\n\n\n\nWeitere Informationen & Events: Happy Hour: 16.10.2026\, 14:00 Uhr – 17:00 UhrEröffnung der Kirmes mit Fassanstich: 16.10.2026\, 18:00 UhrFeuerwerk: 16.10.2026 \n\n\n\n\n\n    \n        \n\n            \n\n            \n                \n                    Break Dance – Bruch\n                    \n                \n            \n            \n                Break Dance – Bruch\n            \n        \n                \n                    Disco Jet – Heitmann\n                    \n                \n            \n            \n                Disco Jet – Heitmann\n            \n        \n                \n                    Jump Street – Klaasen\n                    \n                \n            \n            \n                Jump Street – Klaasen\n            \n        \n                \n                    Shake & Roll – Schäfer\n                    \n                \n            \n            \n                Shake & Roll – Schäfer\n            \n        \n                \n                    Twister – Deinert\n                    \n                \n            \n            \n                Twister – Deinert\n            \n                \n    \n\n\n\n\n\n\n\n\n\n\nAnfahrt und Parken\n\n\n\nKlicke auf die Icons für weitere Informationen
URL:https://www.kirmesdeutschland.de/kirmesplatz/bocholter-kirmes-2026/
CATEGORIES:Kirmesplätze 2026 NRW,Alle Kirmesplätze 2026
ATTACH;FMTTYPE=image/png:https://www.kirmesdeutschland.de/wp-content/uploads/2025/09/Bocholter-Kirmes-2026.png
END:VEVENT
END:VCALENDAR